BEGIN:VCALENDAR
VERSION:2.0
PRODID:Events Booking
BEGIN:VEVENT
UID:69e9de116df0c
SUMMARY:Assemblée des Délégués (avec repas à midi)
DESCRIPTION:
DTSTART:20191123T080000Z
DTEND:20191123T110000Z
DTSTAMP:20260423T105337Z
ORGANIZER;CN=Formations SISL:MAILTO:formation@sisl.ch
END:VEVENT
END:VCALENDAR