BEGIN:VCALENDAR
VERSION:2.0
PRODID:Events Booking
BEGIN:VEVENT
UID:69e79982b337c
SUMMARY: Sciez - 6e manche du Super-challenge
DESCRIPTION:
DTSTART:20200807T220000Z
DTSTAMP:20260421T173634Z
ORGANIZER;CN=Formations SISL:MAILTO:formation@sisl.ch
END:VEVENT
END:VCALENDAR