BEGIN:VCALENDAR
VERSION:2.0
PRODID:Events Booking
BEGIN:VEVENT
UID:69e8d2c78dbc3
SUMMARY:Régate Genève-Rolle-Genève
DESCRIPTION:
LOCATION:Rue Hans Wilsdorf 4\, 1227 Les Acacias\, Suisse
DTSTART:20220603T220000Z
DTEND:20220604T220000Z
DTSTAMP:20220429T173212Z
ORGANIZER;CN=Formations SISL:MAILTO:formation@sisl.ch
GEO:46.195036;6.133981
X-APPLE-STRUCTURED-LOCATION;VALUE=URI;X-ADDRESS=Rue Hans Wilsdorf 4\, 1227 
 Les Acacias\, Suisse;X-APPLE-RADIUS=72;X-TITLE=Genève - Piscine des Verne
 ts:46.195036;6.133981
END:VEVENT
END:VCALENDAR