BEGIN:VCALENDAR
VERSION:2.0
PRODID:Events Booking
BEGIN:VEVENT
UID:69e884aa9b93a
SUMMARY:Saint-Prex | Journée de l'Huître
DESCRIPTION:
DTSTART:20231028T220000Z
DTSTAMP:20230418T145924Z
ORGANIZER;CN=Formations SISL:MAILTO:formation@sisl.ch
END:VEVENT
END:VCALENDAR