BEGIN:VCALENDAR
VERSION:2.0
PRODID:Events Booking
BEGIN:VEVENT
UID:69e5fae70c5d7
SUMMARY:Module Expérience en eau froide
DESCRIPTION:
DTSTART:20260207T073000Z
DTEND:20260207T170000Z
DTSTAMP:20260420T120735Z
ORGANIZER;CN=Formations SISL:MAILTO:formation@sisl.ch
END:VEVENT
END:VCALENDAR