BEGIN:VCALENDAR
VERSION:2.0
PRODID:Events Booking
BEGIN:VEVENT
UID:69e885a9cbb2b
SUMMARY:Formation des moniteurs de section
DESCRIPTION:
DTSTART:20260509T053000Z
DTEND:20260509T150000Z
DTSTAMP:20260313T140645Z
ORGANIZER;CN=Formations SISL:MAILTO:formation@sisl.ch
END:VEVENT
END:VCALENDAR