BEGIN:VCALENDAR
VERSION:2.0
PRODID:Events Booking
BEGIN:VEVENT
UID:69e9d9393fba9
SUMMARY:Lutry\, Grande Fête ou Internationale
DESCRIPTION:
DTSTART:20180727T220000Z
DTSTAMP:20260423T103257Z
ORGANIZER;CN=Formations SISL:MAILTO:formation@sisl.ch
END:VEVENT
END:VCALENDAR