BEGIN:VCALENDAR
VERSION:2.0
PRODID:Events Booking
BEGIN:VEVENT
UID:69e9d986689da
SUMMARY:Rivaz\, Fête de Section
DESCRIPTION:
DTSTART:20180720T220000Z
DTSTAMP:20260423T103414Z
ORGANIZER;CN=Formations SISL:MAILTO:formation@sisl.ch
END:VEVENT
END:VCALENDAR