BEGIN:VCALENDAR
VERSION:2.0
PRODID:Events Booking
BEGIN:VEVENT
UID:69e9dd80a58a5
SUMMARY:Lutry\, Rame Sociétés locales
DESCRIPTION:
DTSTART:20180726T220000Z
DTSTAMP:20260423T105112Z
ORGANIZER;CN=Formations SISL:MAILTO:formation@sisl.ch
END:VEVENT
END:VCALENDAR