BEGIN:VCALENDAR
VERSION:2.0
PRODID:Events Booking
BEGIN:VEVENT
UID:69e9da9639fa8
SUMMARY:Bouveret\, Fête de Section
DESCRIPTION:
DTSTART:20180730T220000Z
DTSTAMP:20260423T103846Z
ORGANIZER;CN=Formations SISL:MAILTO:formation@sisl.ch
END:VEVENT
END:VCALENDAR