BEGIN:VCALENDAR
VERSION:2.0
PRODID:Events Booking
BEGIN:VEVENT
UID:69e9db075308b
SUMMARY:Lutry\, Fête de Section
DESCRIPTION:
DTSTART:20180730T220000Z
DTSTAMP:20260423T104039Z
ORGANIZER;CN=Formations SISL:MAILTO:formation@sisl.ch
END:VEVENT
END:VCALENDAR