BEGIN:VCALENDAR
VERSION:2.0
PRODID:Events Booking
BEGIN:VEVENT
UID:69e6d555a27e7
SUMMARY:\"ANNULÉ / COVID-19\" Genève-Rolle-Genève
DESCRIPTION:
DTSTART:20200605T220000Z
DTEND:20200606T220000Z
DTSTAMP:20260421T033933Z
ORGANIZER;CN=Formations SISL:MAILTO:formation@sisl.ch
END:VEVENT
END:VCALENDAR