BEGIN:VCALENDAR
VERSION:2.0
PRODID:Events Booking
BEGIN:VEVENT
UID:69eba13e6ea70
SUMMARY:St-Saphorin / Fête de section - rame SISL
DESCRIPTION:
DTSTART:20210618T220000Z
DTSTAMP:20260424T185838Z
ORGANIZER;CN=Formations SISL:MAILTO:formation@sisl.ch
END:VEVENT
END:VCALENDAR