BEGIN:VCALENDAR
VERSION:2.0
PRODID:Events Booking
BEGIN:VEVENT
UID:69e679fb85bb4
SUMMARY:\"ANNULÉE / COVID-19\" Territet / Fête du Lac - Challenge de L'Il
 e de Peilz
DESCRIPTION:
DTSTART:20210702T220000Z
DTEND:20210703T220000Z
DTSTAMP:20260420T210947Z
ORGANIZER;CN=Formations SISL:MAILTO:formation@sisl.ch
END:VEVENT
END:VCALENDAR