BEGIN:VCALENDAR
VERSION:2.0
PRODID:Events Booking
BEGIN:VEVENT
UID:69e84a8823280
SUMMARY:Lugrin / Fête de section / 4e manche du super-challenge
DESCRIPTION:
DTSTART:20210730T220000Z
DTSTAMP:20260422T061152Z
ORGANIZER;CN=Formations SISL:MAILTO:formation@sisl.ch
END:VEVENT
END:VCALENDAR