BEGIN:VCALENDAR
VERSION:2.0
PRODID:Events Booking
BEGIN:VEVENT
UID:69e6bd8aef82c
SUMMARY:St-Prex | Journée de l’huître
DESCRIPTION:
DTSTART:20221028T220000Z
DTSTAMP:20220429T181529Z
ORGANIZER;CN=Formations SISL:MAILTO:formation@sisl.ch
END:VEVENT
END:VCALENDAR