BEGIN:VCALENDAR
VERSION:2.0
PRODID:Events Booking
BEGIN:VEVENT
UID:69e9529ca2075
SUMMARY:Assemblée des délégués d’automne avec repas
DESCRIPTION:
DTSTART:20221119T080000Z
DTSTAMP:20220429T181605Z
ORGANIZER;CN=Formations SISL:MAILTO:formation@sisl.ch
END:VEVENT
END:VCALENDAR