BEGIN:VCALENDAR
VERSION:2.0
PRODID:Events Booking
BEGIN:VEVENT
UID:69e9da96b3f5f
SUMMARY:Villeneuve | 130 ans de la section
DESCRIPTION:
DTSTART:20230624T220000Z
DTSTAMP:20230418T143507Z
ORGANIZER;CN=Formations SISL:MAILTO:formation@sisl.ch
END:VEVENT
END:VCALENDAR