BEGIN:VCALENDAR
VERSION:2.0
PRODID:Events Booking
BEGIN:VEVENT
UID:69e8c02c75b52
SUMMARY:Amphion | Rame SISL
DESCRIPTION:
DTSTART:20230630T220000Z
DTSTAMP:20230418T143749Z
ORGANIZER;CN=Formations SISL:MAILTO:formation@sisl.ch
END:VEVENT
END:VCALENDAR