BEGIN:VCALENDAR
VERSION:2.0
PRODID:Events Booking
BEGIN:VEVENT
UID:69e6bec540fa1
SUMMARY:Territet |  Rame SISL - Challenge Île de Peilz
DESCRIPTION:
DTSTART:20230630T220000Z
DTSTAMP:20230418T143832Z
ORGANIZER;CN=Formations SISL:MAILTO:formation@sisl.ch
END:VEVENT
END:VCALENDAR