BEGIN:VCALENDAR
VERSION:2.0
PRODID:Events Booking
BEGIN:VEVENT
UID:69e5f9f22795a
SUMMARY:Rivaz | Rame SISL
DESCRIPTION:
DTSTART:20230706T220000Z
DTSTAMP:20230418T143935Z
ORGANIZER;CN=Formations SISL:MAILTO:formation@sisl.ch
END:VEVENT
END:VCALENDAR