BEGIN:VCALENDAR
VERSION:2.0
PRODID:Events Booking
BEGIN:VEVENT
UID:69e5fa52ea40c
SUMMARY:Evian | Rame SISL - Manche SUPER-CHALLENGE
DESCRIPTION:
DTSTART:20230714T220000Z
DTSTAMP:20230418T144110Z
ORGANIZER;CN=Formations SISL:MAILTO:formation@sisl.ch
END:VEVENT
END:VCALENDAR