BEGIN:VCALENDAR
VERSION:2.0
PRODID:Events Booking
BEGIN:VEVENT
UID:69e893f9c3d7e
SUMMARY:Meillerie | SUPER-CHALLENGE
DESCRIPTION:
DTSTART:20230721T220000Z
DTSTAMP:20230418T144134Z
ORGANIZER;CN=Formations SISL:MAILTO:formation@sisl.ch
END:VEVENT
END:VCALENDAR