BEGIN:VCALENDAR
VERSION:2.0
PRODID:Events Booking
BEGIN:VEVENT
UID:69e6be330fa35
SUMMARY:Yvoire | Rame SISL - Manche SUPER-CHALLENGE
DESCRIPTION:
DTSTART:20230728T220000Z
DTSTAMP:20230418T144343Z
ORGANIZER;CN=Formations SISL:MAILTO:formation@sisl.ch
END:VEVENT
END:VCALENDAR