BEGIN:VCALENDAR
VERSION:2.0
PRODID:Events Booking
BEGIN:VEVENT
UID:69e8943d046c2
SUMMARY:Lutry | Rame sociétés locales
DESCRIPTION:
DTSTART:20230728T220000Z
DTSTAMP:20230418T144447Z
ORGANIZER;CN=Formations SISL:MAILTO:formation@sisl.ch
END:VEVENT
END:VCALENDAR