BEGIN:VCALENDAR
VERSION:2.0
PRODID:Events Booking
BEGIN:VEVENT
UID:69e6bd4df2fd1
SUMMARY:Le Bouveret | Kermesse du sauvetage + feux d'artifices
DESCRIPTION:
DTSTART:20230730T220000Z
DTSTAMP:20230418T144728Z
ORGANIZER;CN=Formations SISL:MAILTO:formation@sisl.ch
END:VEVENT
END:VCALENDAR