BEGIN:VCALENDAR
VERSION:2.0
PRODID:Events Booking
BEGIN:VEVENT
UID:69e5e57061445
SUMMARY:Coppet | Fête du Lac
DESCRIPTION:
DTSTART:20230811T220000Z
DTSTAMP:20230418T145026Z
ORGANIZER;CN=Formations SISL:MAILTO:formation@sisl.ch
END:VEVENT
END:VCALENDAR