BEGIN:VCALENDAR
VERSION:2.0
PRODID:Events Booking
BEGIN:VEVENT
UID:69e5e506efce7
SUMMARY:Sciez | Rame SISL + Manche SUPER-CHALLENGE
DESCRIPTION:
DTSTART:20230811T220000Z
DTSTAMP:20230418T145055Z
ORGANIZER;CN=Formations SISL:MAILTO:formation@sisl.ch
END:VEVENT
END:VCALENDAR