BEGIN:VCALENDAR
VERSION:2.0
PRODID:Events Booking
BEGIN:VEVENT
UID:69e884b18af05
SUMMARY:Rolle | Spectacle humoristique suisse
DESCRIPTION:
DTSTART:20230817T220000Z
DTSTAMP:20230418T145129Z
ORGANIZER;CN=Formations SISL:MAILTO:formation@sisl.ch
END:VEVENT
END:VCALENDAR