BEGIN:VCALENDAR
VERSION:2.0
PRODID:Events Booking
BEGIN:VEVENT
UID:69e5e5bec1675
SUMMARY:Rolle | Fête INTERNATIONALE + concert
DESCRIPTION:
DTSTART:20230818T220000Z
DTSTAMP:20230418T145211Z
ORGANIZER;CN=Formations SISL:MAILTO:formation@sisl.ch
END:VEVENT
END:VCALENDAR