BEGIN:VCALENDAR
VERSION:2.0
PRODID:Events Booking
BEGIN:VEVENT
UID:69e8823f31415
SUMMARY:Rolle | Présentation nouveau bateau
DESCRIPTION:Le matin.
DTSTART:20230819T220000Z
DTSTAMP:20230418T145245Z
ORGANIZER;CN=Formations SISL:MAILTO:formation@sisl.ch
END:VEVENT
END:VCALENDAR