BEGIN:VCALENDAR
VERSION:2.0
PRODID:Events Booking
BEGIN:VEVENT
UID:69e5e31f48f43
SUMMARY:50e MARATHON du lac Lugrin-Villette
DESCRIPTION:
DTSTART:20230825T220000Z
DTSTAMP:20230418T145319Z
ORGANIZER;CN=Formations SISL:MAILTO:formation@sisl.ch
END:VEVENT
END:VCALENDAR