BEGIN:VCALENDAR
VERSION:2.0
PRODID:Events Booking
BEGIN:VEVENT
UID:69e5e506eac8b
SUMMARY:Trans-lémanique en solitaire
DESCRIPTION:
DTSTART:20230825T220000Z
DTEND:20230826T220000Z
DTSTAMP:20230418T145350Z
ORGANIZER;CN=Formations SISL:MAILTO:formation@sisl.ch
END:VEVENT
END:VCALENDAR