BEGIN:VCALENDAR
VERSION:2.0
PRODID:Events Booking
BEGIN:VEVENT
UID:69e8c20d6eb5e
SUMMARY:Portes ouvertes
DESCRIPTION:
DTSTART:20230505T150000Z
DTSTAMP:20230502T032523Z
ORGANIZER;CN=Formations SISL:MAILTO:formation@sisl.ch
END:VEVENT
END:VCALENDAR