BEGIN:VCALENDAR
VERSION:2.0
PRODID:Events Booking
BEGIN:VEVENT
UID:69e5e4b4b5467
SUMMARY:Assemblée des délégués de printemps - Territet
DESCRIPTION:
DTSTART:20240608T070000Z
DTSTAMP:20240402T061139Z
ORGANIZER;CN=Formations SISL:MAILTO:formation@sisl.ch
END:VEVENT
END:VCALENDAR