BEGIN:VCALENDAR
VERSION:2.0
PRODID:Events Booking
BEGIN:VEVENT
UID:69e9efe5ec8ce
SUMMARY:Villette // Rame sociétés locales
DESCRIPTION:
DTSTART:20240823T160000Z
DTSTAMP:20240402T062957Z
ORGANIZER;CN=Formations SISL:MAILTO:formation@sisl.ch
END:VEVENT
END:VCALENDAR