BEGIN:VCALENDAR
VERSION:2.0
PRODID:Events Booking
BEGIN:VEVENT
UID:69e9f026491e7
SUMMARY:St-Saphorin // Kermesse & Rame SISL\, sociétés locales\, concours
  des enfants
DESCRIPTION:Vendredi 30 août : Rame SISL
 Samedi 31 août : Sociétés lo
 cales\, concours des enfants
DTSTART:20240829T220000Z
DTEND:20240830T220000Z
DTSTAMP:20240402T063209Z
ORGANIZER;CN=Formations SISL:MAILTO:formation@sisl.ch
END:VEVENT
END:VCALENDAR