BEGIN:VCALENDAR
VERSION:2.0
PRODID:Events Booking
BEGIN:VEVENT
UID:69e9ef9519ec3
SUMMARY:Fête INTERNATIONALE
DESCRIPTION:
LOCATION:Quai Louis-Bonnard 13\, 1260 Nyon
DTSTART:20250815T220000Z
DTSTAMP:20250311T122704Z
ORGANIZER;CN=Formations SISL:MAILTO:formation@sisl.ch
GEO:22;0
X-APPLE-STRUCTURED-LOCATION;VALUE=URI;X-ADDRESS=Quai Louis-Bonnard 13\, 126
 0 Nyon;X-APPLE-RADIUS=72;X-TITLE=Sauvetage de Nyon:22;0
END:VEVENT
END:VCALENDAR